BEGIN:VCALENDAR
VERSION:2.0
PRODID:icalendar-ruby
CALSCALE:GREGORIAN
METHOD:PUBLISH
BEGIN:VEVENT
DTSTAMP:20260420T195051Z
UID:11-493666@hhgcc.org
DTSTART:20261025T130000Z
DTEND:20261025T140000Z
CLASS:PUBLIC
CREATED:20260420T153828
DESCRIPTION:
LAST-MODIFIED:20260420T153828
LOCATION:5001 Fishburg Road\, Huber Heights\, OH 45424
SUMMARY:Sunday School
URL;VALUE=URI:https://www.hhgcc.org/events/sunday-school/2026-10-25
END:VEVENT
END:VCALENDAR
