BEGIN:VCALENDAR
VERSION:2.0
PRODID:icalendar-ruby
CALSCALE:GREGORIAN
METHOD:PUBLISH
BEGIN:VEVENT
DTSTAMP:20260420T213740Z
UID:11-493667@hhgcc.org
DTSTART:20261101T140000Z
DTEND:20261101T150000Z
CLASS:PUBLIC
CREATED:20260420T153828
DESCRIPTION:
LAST-MODIFIED:20260420T153828
LOCATION:5001 Fishburg Road\, Huber Heights\, OH 45424
SUMMARY:Sunday School
URL;VALUE=URI:https://www.hhgcc.org/events/sunday-school/2026-11-01
END:VEVENT
END:VCALENDAR
